BEGIN:VCALENDAR
VERSION:2.0
PRODID:-//Fortitude Martial Arts Academy - ECPv6.15.20//NONSGML v1.0//EN
CALSCALE:GREGORIAN
METHOD:PUBLISH
X-ORIGINAL-URL:https://tkd4u.co.uk
X-WR-CALDESC:Events for Fortitude Martial Arts Academy
REFRESH-INTERVAL;VALUE=DURATION:PT1H
X-Robots-Tag:noindex
X-PUBLISHED-TTL:PT1H
BEGIN:VTIMEZONE
TZID:UTC
BEGIN:STANDARD
TZOFFSETFROM:+0000
TZOFFSETTO:+0000
TZNAME:UTC
DTSTART:20240101T000000
END:STANDARD
END:VTIMEZONE
BEGIN:VEVENT
DTSTART;TZID=UTC:20250712T153000
DTEND;TZID=UTC:20250712T183000
DTSTAMP:20260423T200111
CREATED:20250710T115649Z
LAST-MODIFIED:20250710T115649Z
UID:902173-1752334200-1752345000@tkd4u.co.uk
SUMMARY:SQUAD
DESCRIPTION:You are invited to join our upcoming squad training session\, scheduled for Saturday\, 12th July\, at Lingfield Prep School\, RH7 6PH\, from 3:30 pm to 6:30 pm. To secure your spot\, kindly make your reservation through the provided link. These sessions are designed for students aged 9 and above who are eager to enhance their skills through additional training. \n\nIn addition to honing your abilities\, these sessions serve as excellent preparation for our NTA UK Interhouse Competition\, scheduled for November 2025. We strongly encourage squad members to also participate in open competitions to further challenge themselves. Check out the details on our events page\, specifically the open competitions section: Events Calendar \nOur commitment to your growth extends beyond the monthly squad sessions. Regular attendance not only prepares you for our academy competitions but also positions you to partake in external tournaments we have been invited to. For a comprehensive list\, visit our events page here: NTA UK Events. \nWe are thrilled to announce that squad training sessions will be a monthly occurrence (excluding May & June)\, providing you with ample opportunities to refine your skills and gear up for competitions. Dedication to these sessions could also lead to the exciting chance to represent our academy in competitive events. \nYour journey in Taekwondo is our shared passion\, and we eagerly anticipate your presence at the upcoming squad training session. \nSee you on the mats! \nTaekwon \nMaster Hodson
URL:https://tkd4u.co.uk/event/squad/
LOCATION:Lingfield Prep School\, Racecourse Road\, Lingfield\, United Kingdom\, RH7 6PH\, United Kingdom
CATEGORIES:SQUADS
ATTACH;FMTTYPE=image/png:https://tkd4u.co.uk/wp-content/uploads/sites/519/2025/07/ITF-NATIONAL-TEAM-CHAMPIONSHIPS-21.png
ORGANIZER;CN="National Taekwon-Do Alliance":MAILTO:admin@ntauk.co.uk
END:VEVENT
END:VCALENDAR