BEGIN:VCALENDAR
VERSION:2.0
PRODID:-//Fortitude Martial Arts Academy - ECPv6.15.20//NONSGML v1.0//EN
CALSCALE:GREGORIAN
METHOD:PUBLISH
X-ORIGINAL-URL:https://tkd4u.co.uk
X-WR-CALDESC:Events for Fortitude Martial Arts Academy
REFRESH-INTERVAL;VALUE=DURATION:PT1H
X-Robots-Tag:noindex
X-PUBLISHED-TTL:PT1H
BEGIN:VTIMEZONE
TZID:UTC
BEGIN:STANDARD
TZOFFSETFROM:+0000
TZOFFSETTO:+0000
TZNAME:UTC
DTSTART:20250101T000000
END:STANDARD
END:VTIMEZONE
BEGIN:VEVENT
DTSTART;TZID=UTC:20260315T103000
DTEND;TZID=UTC:20260315T163000
DTSTAMP:20260423T104112
CREATED:20260220T123018Z
LAST-MODIFIED:20260306T130631Z
UID:1099078-1773570600-1773592200@tkd4u.co.uk
SUMMARY:TECHNICAL SEMINAR
DESCRIPTION:Master Technical Seminar Overview\n\nEligibility: Open to NTA UK associated students from blue belt and above.\nFocus Areas:\n\nPatterns: Emphasising the correct application of the theory of power.\nOne-Step Sparring: A key fundamental element of Taekwon-Do.\nMoral Culture & Etiquette: Insights from Master Hodson on Taekwon-Do’s deeper values.\n\n\n\nSeminar Structure\n\nDuration: 6 hours total.\n\nFirst 4 hours: Open to all eligible students for training.\nLast 2 hours: Reserved for 1st Kups and Black Belts who are pre-grading.\n\n\n\nPre-Grading Session\n\nParticipants: Only for students aiming for 1st Degree or higher.\n\nMust be pre-assessed and invited by their instructors.\n\n\nPreparation:\n\nBring your draft thesis (details in your Student Handbook).\nEnsure you have the 2022 version of the Student Handbook which highlights the black belt grading guide (available in the shop if needed).\n\n\n\nAdditional Information\n\nLunch Break: A 30-minute break around midday.\nDress Code: Full Do-Boks only – no exceptions.\nWishing Success: Best of luck to those pre-grading\, and we look forward to seeing you!
URL:https://tkd4u.co.uk/event/technical-seminar-2/
LOCATION:Lingfield Prep School\, Racecourse Road\, Lingfield\, United Kingdom\, RH7 6PH\, United Kingdom
CATEGORIES:SEMINARS
ATTACH;FMTTYPE=image/png:https://tkd4u.co.uk/wp-content/uploads/sites/519/2026/02/TECHNICAL-SEMINAR-WITH-MASTER-HODSON-Instagram-Post.png
ORGANIZER;CN="National Taekwon-Do Alliance":MAILTO:admin@ntauk.co.uk
END:VEVENT
END:VCALENDAR