BEGIN:VCALENDAR
VERSION:2.0
PRODID:-//Fortitude Martial Arts Academy - ECPv6.15.20//NONSGML v1.0//EN
CALSCALE:GREGORIAN
METHOD:PUBLISH
X-ORIGINAL-URL:https://tkd4u.co.uk
X-WR-CALDESC:Events for Fortitude Martial Arts Academy
REFRESH-INTERVAL;VALUE=DURATION:PT1H
X-Robots-Tag:noindex
X-PUBLISHED-TTL:PT1H
BEGIN:VTIMEZONE
TZID:UTC
BEGIN:STANDARD
TZOFFSETFROM:+0000
TZOFFSETTO:+0000
TZNAME:UTC
DTSTART:20240101T000000
END:STANDARD
END:VTIMEZONE
BEGIN:VEVENT
DTSTART;VALUE=DATE:20251207
DTEND;VALUE=DATE:20251208
DTSTAMP:20260423T133920
CREATED:20251112T124716Z
LAST-MODIFIED:20251112T124716Z
UID:1016249-1765065600-1765151999@tkd4u.co.uk
SUMMARY:WINTER INTER-CLUB COMPETITION
DESCRIPTION:STRIVE. COMPETE. ACHIEVE.\nWINTER INTER-CLUB COMPETITION\nDear Student / Parent\, \nAs the air turns crisp and we head into winter\, it’s the perfect time to test your skills and warm up your spirit with our exciting Winter Inter-Club Competition! \nWe are delighted to invite you to our Winter Inter-Club Competition on Sunday\, 7th December 2025. \nParticipating in our winter competition is a fantastic opportunity to challenge yourself\, develop your Taekwon-Do skills\, and enjoy the spirit of friendly competition. Bring your friends and family to cheer you on and celebrate a great end to the year together. \nLet’s finish 2025 strong—celebrating dedication\, progress\, and passion for Taekwon-Do this winter! \n\nBLOG – Why Compete?\nA great read for students and parents! Strengthening Our Community \n\nREGISTRATION TIMES\nSunday 7th December \n\n\n9.00am – White to Green Stripe Belt Junior Students (ages 5–12) \n\n\n11.45am – Green to Black Belt Junior Students (ages 5–12) \n\n\n2.45pm – All Belts (ages 13–17 and Adults ONLY) \n\n\n\nVENUE\nCaterham SchoolHarestone Valley RoadCaterhamSurreyCR3 6YA \n\nAWARDS\n🏅 All Junior Students will receive a medal for participation.🥇 Gold medals for 1st place\, 🥈 Silver for 2nd\, and 🥉 Bronze for 3rd. \nNote: For Flying Kicks and Power events\, only a Gold medal will be awarded—unless there are two competitors with three or more attempts\, in which case both may receive medals or a Silver may be awarded to a clear runner-up. \n\nENTRY DETAILS\nCompetition Entry Fee: £25 per student (includes all events) \nEvents: \n\n\nPatterns \n\n\nSparring \n\n\nFlying Side Kick (Junior ONLY) \n\n\nFlying High Kick \n\n\nPower (13–17-year-olds and Adults ONLY) \n\n\nEntry Deadline: 5th December 2025(Entries on the day will be charged at £30) \n\nDISCLAIMER\nWhilst NTA UK will ensure a high standard of safety during the competition\, by entering you acknowledge that there is an element of risk and that competitors may still sustain injury. Knowing this\, you accept these conditions and voluntarily agree to assume this risk. \nPLEASE ONLY PARTICIPATE IF FIT & WELL TO DO SO. \n\n📄 Junior Competition Guidelines \nJunior Competition Guidelines.pdf
URL:https://tkd4u.co.uk/event/winter-inter-club-competition/
LOCATION:Caterham School Harestone Valley Road Caterham Surrey CR3 6YA\, Caterham School\, Caterham\, CR3 6YA\, United Kingdom
CATEGORIES:COMPETITIONS
ATTACH;FMTTYPE=image/png:https://tkd4u.co.uk/wp-content/uploads/sites/519/2025/10/Rise-to-the-challenge-4.png
ORGANIZER;CN="National Taekwon-Do Alliance":MAILTO:admin@ntauk.co.uk
END:VEVENT
BEGIN:VEVENT
DTSTART;TZID=UTC:20260118T100000
DTEND;TZID=UTC:20260118T130000
DTSTAMP:20260423T133920
CREATED:20260105T114519Z
LAST-MODIFIED:20260105T114625Z
UID:1049659-1768730400-1768741200@tkd4u.co.uk
SUMMARY:Get Back on Track!
DESCRIPTION:Happy New Year from Fortitude Taekwon-Do!\n\n\n\n Get Back on Track Seminar \n Sunday 18th January 2025\n 10 AM – 1 PM\n Open to all students aged 9+ (all belts welcome!)\n\n\n\nAfter the holiday fun\, it’s time to kick off the New Year with purpose! \n\nJoin Master Hodson for this 3-HOUR seminar and get your training back on track.\n\n\n\nWe’ll focus on:\n\n\n Patterns\n Sparring\n Self-Defence\n\n\n\nBlack Belt hopefuls for 2026?  This is your chance to step up and start the year STRONG \n\n\n\nSpaces fill quickly\, so check with your Instructor for suitability and book your spot!\n\n\n\nLet’s hit the ground running in 2026! Click the link to book\n\nEvent
URL:https://tkd4u.co.uk/event/get-back-on-track/
LOCATION:Lingfield Prep School\, Racecourse Road\, Lingfield\, United Kingdom\, RH7 6PH\, United Kingdom
CATEGORIES:SEMINARS
ATTACH;FMTTYPE=image/png:https://tkd4u.co.uk/wp-content/uploads/sites/519/2026/01/Back-to-Training-2026.png
ORGANIZER;CN="National Taekwon-Do Alliance":MAILTO:admin@ntauk.co.uk
END:VEVENT
BEGIN:VEVENT
DTSTART;TZID=UTC:20260214T153000
DTEND;TZID=UTC:20260214T183000
DTSTAMP:20260423T133920
CREATED:20260119T142907Z
LAST-MODIFIED:20260119T142907Z
UID:1067715-1771083000-1771093800@tkd4u.co.uk
SUMMARY:SQUAD SESSION
DESCRIPTION:SQUAD TRAINING & SELECTION \nReady to take your Taekwondo to the next level?\nJoin us for Squad Training on Saturday 14th February at Lingfield Prep School\, RH7 6PH\, from 3:30 pm – 6:30 pm. \n👉 Secure your spot now through the booking link! \nThese sessions are open to students aged 9+ who want to push harder\, train smarter\, and sharpen their skills. \nNot only will you boost your performance\, but you’ll also be gearing up for the NTA UK Interhouse Competition on 17th May 2026 (invites going out shortly). We also encourage all squad members to test themselves at open competitions — details are on our Events Calendar. \n💡 Why join? \n\nMonthly squad sessions (excluding August)\nExtra training to prepare for academy & external tournaments\nOpportunities to represent the academy in competitive events\nA pathway to push yourself beyond regular classes\n\nThis is your chance to train with focus\, refine your technique\, and prepare for exciting challenges ahead. \nWe can’t wait to see you on the mats. Let’s train\, compete\, and grow together! \nTaekwon\nMaster Hodson\nPresident\, National Taekwondo Alliance UK\nFounder\, Fortitude Academy
URL:https://tkd4u.co.uk/event/squad-session-9/
LOCATION:Lingfield Prep School\, Racecourse Road\, Lingfield\, United Kingdom\, RH7 6PH\, United Kingdom
CATEGORIES:SQUADS
ATTACH;FMTTYPE=image/png:https://tkd4u.co.uk/wp-content/uploads/sites/519/2026/01/ITF-NATIONAL-TEAM-CHAMPIONSHIPS-18.png
ORGANIZER;CN="National Taekwon-Do Alliance":MAILTO:admin@ntauk.co.uk
END:VEVENT
BEGIN:VEVENT
DTSTART;TZID=UTC:20260307T153000
DTEND;TZID=UTC:20260307T183000
DTSTAMP:20260423T133920
CREATED:20260220T123638Z
LAST-MODIFIED:20260220T123638Z
UID:1099081-1772897400-1772908200@tkd4u.co.uk
SUMMARY:SQUAD SESSION
DESCRIPTION:SQUAD TRAINING & SELECTION \nReady to take your Taekwondo to the next level?\nJoin us for Squad Training on Saturday 7th March at Lingfield Prep School\, RH7 6PH\, from 3:30 pm – 6:30 pm. \n👉 Secure your spot now through the booking link! \nThese sessions are open to students aged 9+ who want to push harder\, train smarter\, and sharpen their skills. \nNot only will you boost your performance\, but you’ll also be gearing up for the NTA UK Interhouse Competition on 17th May 2026 (invites going out shortly). We also encourage all squad members to test themselves at open competitions — details are on our Events Calendar. \n💡 Why join? \n\nMonthly squad sessions (excluding August)\nExtra training to prepare for academy & external tournaments\nOpportunities to represent the academy in competitive events\nA pathway to push yourself beyond regular classes\n\nThis is your chance to train with focus\, refine your technique\, and prepare for exciting challenges ahead. \nWe can’t wait to see you on the mats. Let’s train\, compete\, and grow together! \nTaekwon\nMaster Hodson\nPresident\, National Taekwondo Alliance UK\nFounder\, Fortitude Academy
URL:https://tkd4u.co.uk/event/squad-session-10/
LOCATION:Lingfield Prep School\, Racecourse Road\, Lingfield\, United Kingdom\, RH7 6PH\, United Kingdom
CATEGORIES:SQUADS
ATTACH;FMTTYPE=image/png:https://tkd4u.co.uk/wp-content/uploads/sites/519/2026/02/Squad-7th-March.png
ORGANIZER;CN="National Taekwon-Do Alliance":MAILTO:admin@ntauk.co.uk
END:VEVENT
BEGIN:VEVENT
DTSTART;TZID=UTC:20260315T103000
DTEND;TZID=UTC:20260315T163000
DTSTAMP:20260423T133920
CREATED:20260220T123018Z
LAST-MODIFIED:20260306T130631Z
UID:1099078-1773570600-1773592200@tkd4u.co.uk
SUMMARY:TECHNICAL SEMINAR
DESCRIPTION:Master Technical Seminar Overview\n\nEligibility: Open to NTA UK associated students from blue belt and above.\nFocus Areas:\n\nPatterns: Emphasising the correct application of the theory of power.\nOne-Step Sparring: A key fundamental element of Taekwon-Do.\nMoral Culture & Etiquette: Insights from Master Hodson on Taekwon-Do’s deeper values.\n\n\n\nSeminar Structure\n\nDuration: 6 hours total.\n\nFirst 4 hours: Open to all eligible students for training.\nLast 2 hours: Reserved for 1st Kups and Black Belts who are pre-grading.\n\n\n\nPre-Grading Session\n\nParticipants: Only for students aiming for 1st Degree or higher.\n\nMust be pre-assessed and invited by their instructors.\n\n\nPreparation:\n\nBring your draft thesis (details in your Student Handbook).\nEnsure you have the 2022 version of the Student Handbook which highlights the black belt grading guide (available in the shop if needed).\n\n\n\nAdditional Information\n\nLunch Break: A 30-minute break around midday.\nDress Code: Full Do-Boks only – no exceptions.\nWishing Success: Best of luck to those pre-grading\, and we look forward to seeing you!
URL:https://tkd4u.co.uk/event/technical-seminar-2/
LOCATION:Lingfield Prep School\, Racecourse Road\, Lingfield\, United Kingdom\, RH7 6PH\, United Kingdom
CATEGORIES:SEMINARS
ATTACH;FMTTYPE=image/png:https://tkd4u.co.uk/wp-content/uploads/sites/519/2026/02/TECHNICAL-SEMINAR-WITH-MASTER-HODSON-Instagram-Post.png
ORGANIZER;CN="National Taekwon-Do Alliance":MAILTO:admin@ntauk.co.uk
END:VEVENT
BEGIN:VEVENT
DTSTART;TZID=UTC:20260411T153000
DTEND;TZID=UTC:20260411T183000
DTSTAMP:20260423T133920
CREATED:20260311T153717Z
LAST-MODIFIED:20260323T122018Z
UID:1116827-1775921400-1775932200@tkd4u.co.uk
SUMMARY:SQUAD SESSION
DESCRIPTION:SQUAD TRAINING & SELECTION \nReady to take your Taekwondo to the next level?\nJoin us for Squad Training on Saturday 11th April at Lingfield Prep School\, RH7 6PH\, from 3:30 pm – 6:30 pm. \n👉 Secure your spot now through the booking link! \nThese sessions are open to students aged 9+ who want to push harder\, train smarter\, and sharpen their skills. \nNot only will you boost your performance\, but you’ll also be gearing up for the NTA UK Interhouse Competition on 17th May 2026 (BOOKING NOW OPEN). We also encourage all squad members to test themselves at open competitions — details are on our Events Calendar. \n💡 Why join? \n\nMonthly squad sessions (excluding August)\nExtra training to prepare for academy & external tournaments\nOpportunities to represent the academy in competitive events\nA pathway to push yourself beyond regular classes\n\nThis is your chance to train with focus\, refine your technique\, and prepare for exciting challenges ahead. \nWe can’t wait to see you on the mats. Let’s train\, compete\, and grow together! \nTaekwon\nMaster Hodson\nPresident\, National Taekwondo Alliance UK\nFounder\, Fortitude Academy
URL:https://tkd4u.co.uk/event/squad-session-11/
LOCATION:Lingfield Prep School\, Racecourse Road\, Lingfield\, United Kingdom\, RH7 6PH\, United Kingdom
CATEGORIES:SQUADS
ATTACH;FMTTYPE=image/png:https://tkd4u.co.uk/wp-content/uploads/sites/519/2026/03/Squad-11th-April.png
ORGANIZER;CN="National Taekwon-Do Alliance":MAILTO:admin@ntauk.co.uk
END:VEVENT
BEGIN:VEVENT
DTSTART;VALUE=DATE:20260419
DTEND;VALUE=DATE:20260420
DTSTAMP:20260423T133920
CREATED:20260311T154144Z
LAST-MODIFIED:20260311T154144Z
UID:1116833-1776556800-1776643199@tkd4u.co.uk
SUMMARY:BLACK BELT GRADING
DESCRIPTION:
URL:https://tkd4u.co.uk/event/black-belt-grading/
LOCATION:Lingfield Prep School\, Racecourse Road\, Lingfield\, United Kingdom\, RH7 6PH\, United Kingdom
ORGANIZER;CN="National Taekwon-Do Alliance":MAILTO:admin@ntauk.co.uk
END:VEVENT
BEGIN:VEVENT
DTSTART;TZID=UTC:20260509T153000
DTEND;TZID=UTC:20260509T183000
DTSTAMP:20260423T133920
CREATED:20260311T153842Z
LAST-MODIFIED:20260420T124039Z
UID:1116829-1778340600-1778351400@tkd4u.co.uk
SUMMARY:SQUAD SESSION
DESCRIPTION:
URL:https://tkd4u.co.uk/event/squad-session-12/
LOCATION:Imberhorne Upper School\, Imberhorne Lane\, East Grinstead\, West Sussex\, RH19 1QY\, United Kingdom
CATEGORIES:SQUADS
ORGANIZER;CN="National Taekwon-Do Alliance":MAILTO:admin@ntauk.co.uk
END:VEVENT
BEGIN:VEVENT
DTSTART;VALUE=DATE:20260517
DTEND;VALUE=DATE:20260518
DTSTAMP:20260423T133920
CREATED:20260311T154024Z
LAST-MODIFIED:20260401T132643Z
UID:1116831-1778976000-1779062399@tkd4u.co.uk
SUMMARY:INTER HOUSE COMPETITION
DESCRIPTION:
URL:https://tkd4u.co.uk/event/inter-house-competition/
LOCATION:East Grinstead Sports Club\, East Grinstead Sports Club\, East Grinstead\, West Sussex\, RH19 4JU\, United Kingdom
CATEGORIES:COMPETITIONS
ATTACH;FMTTYPE=image/png:https://tkd4u.co.uk/wp-content/uploads/sites/519/2026/03/Inter-Club-Competition-2026.png
ORGANIZER;CN="National Taekwon-Do Alliance":MAILTO:admin@ntauk.co.uk
END:VEVENT
BEGIN:VEVENT
DTSTART;VALUE=DATE:20260613
DTEND;VALUE=DATE:20260614
DTSTAMP:20260423T133920
CREATED:20260311T154355Z
LAST-MODIFIED:20260324T152438Z
UID:1116835-1781308800-1781395199@tkd4u.co.uk
SUMMARY:SPARRING SKILLS & DRILLS
DESCRIPTION:Dear Student \nWe’re thrilled to invite you to a powerful training experience designed to elevate your sparring skills to the next level… \nJoin us for an exclusive Sparring Skills & Drills Seminar with Grandmaster Willy Van De Mortel on Saturday\, June 13th. \nThis seminar is all about training smarter\, not harder. Instead of jumping straight into heavy sparring\, you’ll develop the key attributes that make great sparrers—timing\, footwork\, reactions\, and tactical awareness—through structured\, high-level drills. \n\n\n\n🔥 Why You Don’t Want to Miss This\n✅ Train with a Grandmaster\nGain insights from GM Van De Mortel’s elite experience\, with proven drills and strategies that deliver real results. \n✅ Build Confidence & Control\nLearn how to move with purpose\, react with precision\, and stay composed in sparring situations. \n✅ Safe\, Structured Training\nThis is a drills-based seminar—no full-contact sparring. You’ll train in a supportive environment with guided partner work. \n✅ Accelerate Your Progress\nWhether you compete or train for personal growth\, these methods will fast-track your development. \n\n\n\n🛡️ A Safe & Supportive Learning Environment\nThis seminar is not about fighting—it’s about learning. \nThere will be no full-contact sparring\, only controlled drills designed to build: \n\nConfidence\nTechnique\nStrategy\n\nAll students will work at their own pace\, and no one will be pushed beyond their comfort zone. \n\n\n\n🧠 What You’ll Gain\n✨ Sharper Timing & Distance Control\nLearn when to attack\, defend\, and counter with precision. \n✨ Faster Reactions & Decision-Making\nTurn hesitation into instinct through focused drills. \n✨ Cleaner Technique & Movement\nImprove form\, footwork\, and execution while reducing injury risk. \n✨ Tactical Awareness\nStart thinking like a strategist—read opponents\, set traps\, and control the pace. \n✨ Confidence Under Pressure\nBuild muscle memory so your skills hold up when it matters most. \n\n\n\n📅 Event Details\nDate: Saturday\, June 13th\nLocation: Imberhorne Upper School \nTimes: \n\n12:00 PM – 2:00 PM (Under 13s)\n2:30 PM – 5:30 PM (Over 13s)\n\n💻 Register Now: \n\n\n\nSpaces are limited\, and this is a fantastic opportunity to learn from one of the best. \nIf you’re ready to improve your sparring\, sharpen your skills\, and train with purpose\, this seminar is for you. \nLet’s make this an unforgettable training experience. See you on the mat!
URL:https://tkd4u.co.uk/event/sparring-skills-drills/
LOCATION:Imberhorne Upper School\, Imberhorne Lane\, East Grinstead\, West Sussex\, RH19 1QY\, United Kingdom
CATEGORIES:SEMINARS
ATTACH;FMTTYPE=image/png:https://tkd4u.co.uk/wp-content/uploads/sites/519/2026/03/WORLD-CLASS-1080-x-1080-px.png
ORGANIZER;CN="National Taekwon-Do Alliance":MAILTO:admin@ntauk.co.uk
END:VEVENT
BEGIN:VEVENT
DTSTART;TZID=UTC:20260727T093000
DTEND;TZID=UTC:20260731T153000
DTSTAMP:20260423T133920
CREATED:20260312T113035Z
LAST-MODIFIED:20260312T113035Z
UID:1117187-1785144600-1785511800@tkd4u.co.uk
SUMMARY:SUMMER CAMP - SEVENOAKS
DESCRIPTION:
URL:https://tkd4u.co.uk/event/summer-camp-sevenoaks/
LOCATION:Wrotham High School\, Borough Green Road\, Sevenoaks\, Kent\, TN15 7RD\, United Kingdom
ATTACH;FMTTYPE=image/png:https://tkd4u.co.uk/wp-content/uploads/sites/519/2026/03/Heading-1080-x-1080-px.png
END:VEVENT
BEGIN:VEVENT
DTSTART;TZID=UTC:20260810T093000
DTEND;TZID=UTC:20260814T153000
DTSTAMP:20260423T133920
CREATED:20260312T113346Z
LAST-MODIFIED:20260312T113346Z
UID:1117191-1786354200-1786721400@tkd4u.co.uk
SUMMARY:SUMMER CAMP - EAST GRINSTEAD
DESCRIPTION:
URL:https://tkd4u.co.uk/event/summer-camp-east-grinstead/
LOCATION:Imberhorne Upper School\, Imberhorne Lane\, East Grinstead\, West Sussex\, RH19 1QY\, United Kingdom
ATTACH;FMTTYPE=image/png:https://tkd4u.co.uk/wp-content/uploads/sites/519/2026/03/Heading-1080-x-1080-px.png
END:VEVENT
END:VCALENDAR