BEGIN:VCALENDAR
VERSION:2.0
PRODID:-//Fortitude Martial Arts Academy - ECPv6.15.20//NONSGML v1.0//EN
CALSCALE:GREGORIAN
METHOD:PUBLISH
X-WR-CALNAME:Fortitude Martial Arts Academy
X-ORIGINAL-URL:https://tkd4u.co.uk
X-WR-CALDESC:Events for Fortitude Martial Arts Academy
REFRESH-INTERVAL;VALUE=DURATION:PT1H
X-Robots-Tag:noindex
X-PUBLISHED-TTL:PT1H
BEGIN:VTIMEZONE
TZID:UTC
BEGIN:STANDARD
TZOFFSETFROM:+0000
TZOFFSETTO:+0000
TZNAME:UTC
DTSTART:20230101T000000
END:STANDARD
END:VTIMEZONE
BEGIN:VEVENT
DTSTART;TZID=UTC:20240310T100000
DTEND;TZID=UTC:20240310T143000
DTSTAMP:20260424T134234
CREATED:20240211T120642Z
LAST-MODIFIED:20240221T231649Z
UID:495604-1710064800-1710081000@tkd4u.co.uk
SUMMARY:Technical Seminar with Master Hodson
DESCRIPTION:The Master Technical Seminar is open to NTA UK students who hold a blue belt or higher. The focus will be on patterns\, emphasizing the correct application of the theory of power\, along with the practice of step sparring — essential elements of Taekwon-Do training. Master Hodson will also delve into the moral culture and etiquette of Taekwon-Do. \nThis official event requires participants to wear Full Do-Boks\, ensuring a unified and professional appearance. \nA 30-minute lunch break around midday provides students with an opportunity to rejuvenate before continuing with the seminar. Overall\, this seminar is tailored to the needs of students in their training journey\, covering both technical skills and the ethical principles of Taekwon-Do.
URL:https://tkd4u.co.uk/event/technical-seminar/
LOCATION:Lingfield Prep School\, Racecourse Road\, Lingfield\, United Kingdom\, RH7 6PH\, United Kingdom
ATTACH;FMTTYPE=image/png:https://tkd4u.co.uk/wp-content/uploads/sites/519/2021/03/58883164_845846509094864_7712939636372275200_n.png
ORGANIZER;CN="National Taekwon-Do Alliance":MAILTO:admin@ntauk.co.uk
END:VEVENT
BEGIN:VEVENT
DTSTART;TZID=UTC:20240309T153000
DTEND;TZID=UTC:20240309T183000
DTSTAMP:20260424T134234
CREATED:20240211T165443Z
LAST-MODIFIED:20240211T170833Z
UID:495665-1709998200-1710009000@tkd4u.co.uk
SUMMARY:Squad Session
DESCRIPTION:You are invited to our squad session on Saturday 9th March at the Lingfield Prep School\, RH7 6PH\, 3.30pm to 6.30pm\, please book via the link invite.  The sessions are open to every student aged 9 year + who wishes to participate in extra training to develop their skills.  \nThese sessions are also good preparation for our NTA UK Interhouse Competition\, the next one being schedule for 12th May 2024. On top of this we will encourage squaddies to attend open competitions that we have been invited to and you can see these via our events page\, open competitions\, click here for details Gradings\, Events & Courses – Fortitude Martial Arts Academy (tkd4u.co.uk) \nWe will host squads every month giving students the opportunity to prepare for our competitions and open competitions should they wish to. \nStudents who regularly attend each session will be given the opportunity to be selected to compete.  \nWe look forward to seeing you. \nTaekwon \nMaster Hodson \nPresident National Taekwondo Alliance UK \nFounder Fortitude Academy
URL:https://tkd4u.co.uk/event/squad-session/
LOCATION:Lingfield Prep School\, Racecourse Road\, Lingfield\, United Kingdom\, RH7 6PH\, United Kingdom
ATTACH;FMTTYPE=image/png:https://tkd4u.co.uk/wp-content/uploads/sites/519/2021/03/58883164_845846509094864_7712939636372275200_n.png
ORGANIZER;CN="National Taekwon-Do Alliance":MAILTO:admin@ntauk.co.uk
END:VEVENT
END:VCALENDAR